BEGIN:VCALENDAR
VERSION:2.0
PRODID:-//eventon.com NONSGML v1.0//EN
CALSCALE:GREGORIAN
METHOD:PUBLISH
BEGIN:VEVENT
UID:69e961f993226
DTSTAMP:20260423T000409Z
DTSTART:20190831T100000Z
DTEND:20190831T170000Z
LOCATION:Proviant Amt 331 Zeppelinstraße 136\,  14471 Potsdam
SUMMARY:Knigge Seminar "Stil und Etikette im Beruf und Privat"\,  7 Stunden
DESCRIPTION:Ein sicheres\,  sympathisches Auftreten bringt Ihre Karriere v
 oran. Machen Sie sich fit und beherrschen Sie die wichtigsten Regeln im Bus
 iness-Umfeld. Termin: 31. August 2019 Uhrzeit: pünktlich um 10:00 Uhr Ort
 : Proviant Amt 331 Zeppelinstraße 136\,  14471 Potsdam Webseite: https://
 www.proviantamt331.de ca. 7 Stunden &#8211; Inhalte (Auszug): Der erste Ein
 druck ist entscheidend! Dresscode: Welches Outfit[..]\nhttps://www.tramendo
 .de/events/knigge-seminar-20190831/
URL:https://www.tramendo.de/events/knigge-seminar-20190831/
END:VEVENT
END:VCALENDAR